BEGIN:VCALENDAR
VERSION:2.0
PRODID:-//Hollywood Media District - ECPv6.15.20//NONSGML v1.0//EN
CALSCALE:GREGORIAN
METHOD:PUBLISH
X-WR-CALNAME:Hollywood Media District
X-ORIGINAL-URL:https://mediadistrict.org
X-WR-CALDESC:Events for Hollywood Media District
REFRESH-INTERVAL;VALUE=DURATION:PT1H
X-Robots-Tag:noindex
X-PUBLISHED-TTL:PT1H
BEGIN:VTIMEZONE
TZID:America/Los_Angeles
BEGIN:DAYLIGHT
TZOFFSETFROM:-0800
TZOFFSETTO:-0700
TZNAME:PDT
DTSTART:20200308T100000
END:DAYLIGHT
BEGIN:STANDARD
TZOFFSETFROM:-0700
TZOFFSETTO:-0800
TZNAME:PST
DTSTART:20201101T090000
END:STANDARD
BEGIN:DAYLIGHT
TZOFFSETFROM:-0800
TZOFFSETTO:-0700
TZNAME:PDT
DTSTART:20210314T100000
END:DAYLIGHT
BEGIN:STANDARD
TZOFFSETFROM:-0700
TZOFFSETTO:-0800
TZNAME:PST
DTSTART:20211107T090000
END:STANDARD
BEGIN:DAYLIGHT
TZOFFSETFROM:-0800
TZOFFSETTO:-0700
TZNAME:PDT
DTSTART:20220313T100000
END:DAYLIGHT
BEGIN:STANDARD
TZOFFSETFROM:-0700
TZOFFSETTO:-0800
TZNAME:PST
DTSTART:20221106T090000
END:STANDARD
END:VTIMEZONE
BEGIN:VEVENT
DTSTART;TZID=America/Los_Angeles:20210107T150000
DTEND;TZID=America/Los_Angeles:20210107T160000
DTSTAMP:20260424T011859
CREATED:20210107T175659Z
LAST-MODIFIED:20210107T180300Z
UID:1684-1610031600-1610035200@mediadistrict.org
SUMMARY:Nominating/Board Development Committee Zoom Meeting
DESCRIPTION:01-7-21 Nominating Agenda \nClick the link below to join the Nominating/Board Development Committee Zoom Meeting: \nhttps://us02web.zoom.us/j/86789908186 \nMeeting ID: 867 8990 8186 \nTo dial in\, find your local number: https://us02web.zoom.us/u/kl8dRq9SB
URL:https://mediadistrict.org/calendar/nominating-board-development-committee-zoom-meeting/
END:VEVENT
BEGIN:VEVENT
DTSTART;TZID=America/Los_Angeles:20210115T103000
DTEND;TZID=America/Los_Angeles:20210115T113000
DTSTAMP:20260424T011859
CREATED:20210112T204148Z
LAST-MODIFIED:20210112T204148Z
UID:1789-1610706600-1610710200@mediadistrict.org
SUMMARY:Joint Finance and Executive Committee Meeting
DESCRIPTION:Click the link below to join the Joint Finance and Executive Committee Zoom Meeting: \nhttps://us02web.zoom.us/j/89692833980 \nMeeting ID:  896 9283 3980 \nTo dial by your location\, find your local number: https://us02web.zoom.us/u/kb2Osoxjap \nhttps://mediadistrict.org/wp-content/uploads/2021/01/1-15-21-Fin-and-Exec-Mtg-Agenda.pdf
URL:https://mediadistrict.org/calendar/joint-finance-and-executive-committee-meeting/
CATEGORIES:meetings
END:VEVENT
BEGIN:VEVENT
DTSTART;TZID=America/Los_Angeles:20210116T100000
DTEND;TZID=America/Los_Angeles:20210313T180000
DTSTAMP:20260424T011859
CREATED:20210203T034559Z
LAST-MODIFIED:20210203T183118Z
UID:1897-1610791200-1615658400@mediadistrict.org
SUMMARY:REGEN PROJECTS: Doug Aitken Flags and Debris
DESCRIPTION:Schedule a reservation here\n\nGallery hours by appointment:  Tuesday – Saturday\, 10 am – 6 pm\n  \n\n\n\nData Mining\, 2020. Mixed fabrics\, 126 1/4 x 101 1/2 inches; Target\, 2020. Mixed fabrics\, 116 x 118 1/2 inches; Resist Algorithms\, 2020. Mixed fabrics\, 115 x 100 inches. \n\n\n\n\n\nRegen Projects 6750 Santa Monica Blvd\, Los Angeles\, CA. 90038\n\n\n\n\n\n\n\n\nWatch a short film\n\nVirtual conversation with Doug Aitken and Max Hollein\n\nFriday\, February 19\, 2 pm PT / 5 pm ET / 10 pm GMT\nRegister here\n\n\n\n\n\n \n\n\n\n\n\n\n\n\n\n\n 
URL:https://mediadistrict.org/calendar/regen-projects-doug-aitken-flags-and-debris/
LOCATION:Regen Projects\, 6750 Santa Monica Blvd.\, Los Angeles\, CA\, 90038
CATEGORIES:events
END:VEVENT
BEGIN:VEVENT
DTSTART;TZID=America/Los_Angeles:20210128T150000
DTEND;TZID=America/Los_Angeles:20210128T163000
DTSTAMP:20260424T011859
CREATED:20210125T192432Z
LAST-MODIFIED:20210125T192432Z
UID:1839-1611846000-1611851400@mediadistrict.org
SUMMARY:Board of Directors Meeting - Election of Officers and Directors
DESCRIPTION:01-28-2021 BOD Annual Mtg Agenda \n  \nClick the link below to join Board of Directors Zoom Meeting: \nhttps://us02web.zoom.us/j/81045336160 \nMeeting ID: 810 4533 6160 \n  \nTo dial in by your location\, click the link below to find your local number: \nhttps://us02web.zoom.us/u/kl8dRq9SB
URL:https://mediadistrict.org/calendar/board-of-directors-meeting-election-of-officers-and-directors/
CATEGORIES:meetings
END:VEVENT
END:VCALENDAR