BEGIN:VCALENDAR
VERSION:2.0
PRODID:-//Hollywood Media District - ECPv6.15.20//NONSGML v1.0//EN
CALSCALE:GREGORIAN
METHOD:PUBLISH
X-WR-CALNAME:Hollywood Media District
X-ORIGINAL-URL:https://mediadistrict.org
X-WR-CALDESC:Events for Hollywood Media District
REFRESH-INTERVAL;VALUE=DURATION:PT1H
X-Robots-Tag:noindex
X-PUBLISHED-TTL:PT1H
BEGIN:VTIMEZONE
TZID:America/Los_Angeles
BEGIN:DAYLIGHT
TZOFFSETFROM:-0800
TZOFFSETTO:-0700
TZNAME:PDT
DTSTART:20190310T100000
END:DAYLIGHT
BEGIN:STANDARD
TZOFFSETFROM:-0700
TZOFFSETTO:-0800
TZNAME:PST
DTSTART:20191103T090000
END:STANDARD
BEGIN:DAYLIGHT
TZOFFSETFROM:-0800
TZOFFSETTO:-0700
TZNAME:PDT
DTSTART:20200308T100000
END:DAYLIGHT
BEGIN:STANDARD
TZOFFSETFROM:-0700
TZOFFSETTO:-0800
TZNAME:PST
DTSTART:20201101T090000
END:STANDARD
BEGIN:DAYLIGHT
TZOFFSETFROM:-0800
TZOFFSETTO:-0700
TZNAME:PDT
DTSTART:20210314T100000
END:DAYLIGHT
BEGIN:STANDARD
TZOFFSETFROM:-0700
TZOFFSETTO:-0800
TZNAME:PST
DTSTART:20211107T090000
END:STANDARD
END:VTIMEZONE
BEGIN:VEVENT
DTSTART;TZID=America/Los_Angeles:20201105T140000
DTEND;TZID=America/Los_Angeles:20201105T140000
DTSTAMP:20260423T070756
CREATED:20200225T202627Z
LAST-MODIFIED:20201104T032425Z
UID:628-1604584800-1604584800@mediadistrict.org
SUMMARY:SAFE Committee Meeting (Cancelled)
DESCRIPTION:
URL:https://mediadistrict.org/calendar/safe-committee-meeting-9/
LOCATION:Zoom Teleconference\, Zoom Teleconference\, Los Angeles\, CA\, 90038\, United States
CATEGORIES:meetings
END:VEVENT
BEGIN:VEVENT
DTSTART;TZID=America/Los_Angeles:20201105T140000
DTEND;TZID=America/Los_Angeles:20201105T140000
DTSTAMP:20260423T070756
CREATED:20200225T203525Z
LAST-MODIFIED:20201104T030857Z
UID:651-1604584800-1604584800@mediadistrict.org
SUMMARY:Clean & Green Committee Meeting (Cancelled)
DESCRIPTION:
URL:https://mediadistrict.org/calendar/clean-green-committee-meeting-10/
LOCATION:Zoom Teleconference\, Zoom Teleconference\, Los Angeles\, CA\, 90038\, United States
CATEGORIES:meetings
END:VEVENT
BEGIN:VEVENT
DTSTART;TZID=America/Los_Angeles:20201105T140000
DTEND;TZID=America/Los_Angeles:20201105T140000
DTSTAMP:20260423T070756
CREATED:20200225T204237Z
LAST-MODIFIED:20201104T032606Z
UID:673-1604584800-1604584800@mediadistrict.org
SUMMARY:PLUM Committee Meeting (Cancelled)
DESCRIPTION:
URL:https://mediadistrict.org/calendar/plum-committee-meeting-10/
LOCATION:Zoom Teleconference\, Zoom Teleconference\, Los Angeles\, CA\, 90038\, United States
CATEGORIES:meetings
END:VEVENT
BEGIN:VEVENT
DTSTART;TZID=America/Los_Angeles:20201111T160000
DTEND;TZID=America/Los_Angeles:20201111T160000
DTSTAMP:20260423T070756
CREATED:20200225T211339Z
LAST-MODIFIED:20201108T000801Z
UID:743-1605110400-1605110400@mediadistrict.org
SUMMARY:Marketing Committee Meeting
DESCRIPTION:https://us02web.zoom.us/j/85069670152 \nMeeting ID: 850 6967 0152 \nFind your local number: \nhttps://us02web.zoom.us/u/kdrzgnT5Er
URL:https://mediadistrict.org/calendar/marketing-committee-meeting-5/
LOCATION:Zoom Teleconference\, Zoom Teleconference\, Los Angeles\, CA\, 90038\, United States
CATEGORIES:meetings
END:VEVENT
BEGIN:VEVENT
DTSTART;TZID=America/Los_Angeles:20201112T103000
DTEND;TZID=America/Los_Angeles:20201112T103000
DTSTAMP:20260423T070756
CREATED:20200225T205449Z
LAST-MODIFIED:20201109T232110Z
UID:695-1605177000-1605177000@mediadistrict.org
SUMMARY:Finance & Executive Committee Meeting
DESCRIPTION:Zoom Teleconference | https://us02web.zoom.us/j/81374450680 | Meeting ID: 813 7445 0680
URL:https://mediadistrict.org/calendar/finance-executive-committee-meeting-10/
LOCATION:Zoom Teleconference\, Zoom Teleconference\, Los Angeles\, CA\, 90038\, United States
CATEGORIES:meetings
END:VEVENT
BEGIN:VEVENT
DTSTART;TZID=America/Los_Angeles:20201119T110000
DTEND;TZID=America/Los_Angeles:20201119T110000
DTSTAMP:20260423T070756
CREATED:20200225T210003Z
LAST-MODIFIED:20200225T210003Z
UID:715-1605783600-1605783600@mediadistrict.org
SUMMARY:Arts Committee Meeting
DESCRIPTION:
URL:https://mediadistrict.org/calendar/arts-committee-meeting-9/
LOCATION:Zoom Teleconference\, Zoom Teleconference\, Los Angeles\, CA\, 90038\, United States
CATEGORIES:meetings
END:VEVENT
BEGIN:VEVENT
DTSTART;TZID=America/Los_Angeles:20201119T153000
DTEND;TZID=America/Los_Angeles:20201119T153000
DTSTAMP:20260423T070756
CREATED:20201117T230808Z
LAST-MODIFIED:20201117T231119Z
UID:1425-1605799800-1605799800@mediadistrict.org
SUMMARY:Board of Directors Meeting
DESCRIPTION:Zoom Teleconference | https://us02web.zoom.us/j/87436370611 | Meeting ID: 874 3637 0611
URL:https://mediadistrict.org/calendar/board-of-directors-meeting-12/
CATEGORIES:meetings
END:VEVENT
END:VCALENDAR