BEGIN:VCALENDAR
VERSION:2.0
PRODID:-//Hollywood Media District - ECPv6.15.20//NONSGML v1.0//EN
CALSCALE:GREGORIAN
METHOD:PUBLISH
X-WR-CALNAME:Hollywood Media District
X-ORIGINAL-URL:https://mediadistrict.org
X-WR-CALDESC:Events for Hollywood Media District
REFRESH-INTERVAL;VALUE=DURATION:PT1H
X-Robots-Tag:noindex
X-PUBLISHED-TTL:PT1H
BEGIN:VTIMEZONE
TZID:America/Los_Angeles
BEGIN:DAYLIGHT
TZOFFSETFROM:-0800
TZOFFSETTO:-0700
TZNAME:PDT
DTSTART:20190310T100000
END:DAYLIGHT
BEGIN:STANDARD
TZOFFSETFROM:-0700
TZOFFSETTO:-0800
TZNAME:PST
DTSTART:20191103T090000
END:STANDARD
BEGIN:DAYLIGHT
TZOFFSETFROM:-0800
TZOFFSETTO:-0700
TZNAME:PDT
DTSTART:20200308T100000
END:DAYLIGHT
BEGIN:STANDARD
TZOFFSETFROM:-0700
TZOFFSETTO:-0800
TZNAME:PST
DTSTART:20201101T090000
END:STANDARD
BEGIN:DAYLIGHT
TZOFFSETFROM:-0800
TZOFFSETTO:-0700
TZNAME:PDT
DTSTART:20210314T100000
END:DAYLIGHT
BEGIN:STANDARD
TZOFFSETFROM:-0700
TZOFFSETTO:-0800
TZNAME:PST
DTSTART:20211107T090000
END:STANDARD
END:VTIMEZONE
BEGIN:VEVENT
DTSTART;TZID=America/Los_Angeles:20200604T123000
DTEND;TZID=America/Los_Angeles:20200604T123000
DTSTAMP:20260421T101355
CREATED:20200225T191538Z
LAST-MODIFIED:20200602T224107Z
UID:618-1591273800-1591273800@mediadistrict.org
SUMMARY:SAFE Committee Meeting
DESCRIPTION:ZOOM Teleconference | https://us02web.zoom.us/j/674718375 | Meeting ID: 674 718 375 \nCo-Chairs: F. Wehbe\, T. Ragan\nMembers: W. Anabel\, S. Costello\, R. Groeper\, A. Mehrtens \n1. Call to Order/Welcome/Introductions \n2. Public Comment for Items Not on the Agenda \n3. Approval of Meeting Minutes (Motion) \nThursday\, May 07\, 2020\, SAFE Committee Meeting Minutes \n4. Report on security conditions in the District \n5. LA COVID-19 Response Team Services Update \n6. Homeless Solutions Pilot Project \na. BID Security\nb. The Center\nc. Clean Team\nd. Community/Religious\ne. Mental Health Organizations \n7. District Hot Spots \na. New Encampments \n8. Updates from local government partners/Covid 19 \n9. Old Business \n10. New Business \n11. Adjournment/Next Meeting: \nThursday\, July 2\, 2020 at 12:30 p.m.\nZOOM Teleconference | Meeting ID: 674 718 375\nhttps://us02web.zoom.us/j/674718375
URL:https://mediadistrict.org/calendar/safe-committee-meeting-4/
LOCATION:Zoom Teleconference SAFE Committee\, CA\, United States
CATEGORIES:meetings
END:VEVENT
BEGIN:VEVENT
DTSTART;TZID=America/Los_Angeles:20200604T140000
DTEND;TZID=America/Los_Angeles:20200604T140000
DTSTAMP:20260421T101355
CREATED:20200225T203219Z
LAST-MODIFIED:20200602T224937Z
UID:641-1591279200-1591279200@mediadistrict.org
SUMMARY:Clean & Green Committee Meeting
DESCRIPTION:ZOOM Teleconference | Meeting ID: 847 0811 4472 | https://us02web.zoom.us/j/84708114472 \nChair: T. Lee\nMembers: D. Bass\, R. Groeper\, R. Howard\, B. Scane\, C. Short \n1. Call to Order/Welcome/Introductions \n2. Public Comment for Items Not on the Agenda \n3. Approval of Meeting Minutes (Motion) \nThursday\, May 07\, 2020\, Clean and Green Committee Meeting Minutes \n4. Report on Alternative Cleaning Services \n5. District Areas of Critical Needs \n6. Median Landscaping and Repair \n7. Old Business \n8. New Business \n9. Adjournment/Next Meeting: \nThursday\, July 02\, 2020 at 2:00 p.m.\nZoom Teleconference\nhttps://us02web.zoom.us/j/81551169711\nMeeting ID: 815 5116 9711
URL:https://mediadistrict.org/calendar/clean-green-committee-meeting-5/
LOCATION:Zoom Teleconference Clean & Green
CATEGORIES:meetings
END:VEVENT
BEGIN:VEVENT
DTSTART;TZID=America/Los_Angeles:20200604T150000
DTEND;TZID=America/Los_Angeles:20200604T150000
DTSTAMP:20260421T101355
CREATED:20200225T203915Z
LAST-MODIFIED:20200602T225354Z
UID:661-1591282800-1591282800@mediadistrict.org
SUMMARY:PLUM Committee Meeting
DESCRIPTION:ZOOM Teleconference | https://us02web.zoom.us/j/86799183485 | Meeting ID: 867 9918 3485 \nCo-Chairs: M. Padilla\, A. Massachi\nMembers: S. Campbell\, R. Howard\, J. Massachi\, S. Pan\, B. Scane\, A. Wilder \n1. Call to Order/Welcome/Introductions \n2. Public Comment for Items Not on the Agenda \n3. Approval of Meeting Minutes (Motion) \nThursday\, February 06\, 2020\, PLUM Committee Meeting Minutes \n4. 7-11 Nuisance Abatement Proceeding \na. In coordination with F. Wehbe and T. Ragan from the SAFE Committee \n5. 700 Highland \n6. Slow Streets LA \n7. Old Business \na. 960 La Brea\nb. Parking Meters Update\nc. Underground Powerlines\nd. 99 Cents Store \n8. New Business \n9. Adjournment/Next Meeting: \nThursday\, July 2\, 2020 at 3:00 p.m.\nZOOM Teleconference | Meeting ID: 893 4957 4221\nhttps://us02web.zoom.us/j/89349574221
URL:https://mediadistrict.org/calendar/plum-committee-meeting-5/
LOCATION:Zoom Teleconference PLUM
CATEGORIES:meetings
END:VEVENT
BEGIN:VEVENT
DTSTART;TZID=America/Los_Angeles:20200610T160000
DTEND;TZID=America/Los_Angeles:20200610T160000
DTSTAMP:20260421T101355
CREATED:20200117T185351Z
LAST-MODIFIED:20200207T182208Z
UID:490-1591804800-1591804800@mediadistrict.org
SUMMARY:Marketing Committee Meeting
DESCRIPTION:
URL:https://mediadistrict.org/calendar/marketing-committee-meeting-2-2020-06-10/
LOCATION:Zoom Teleconference\, Zoom Teleconference\, Los Angeles\, CA\, 90038\, United States
CATEGORIES:meetings
END:VEVENT
BEGIN:VEVENT
DTSTART;TZID=America/Los_Angeles:20200611T103000
DTEND;TZID=America/Los_Angeles:20200611T103000
DTSTAMP:20260421T101355
CREATED:20200225T204711Z
LAST-MODIFIED:20200225T204711Z
UID:683-1591871400-1591871400@mediadistrict.org
SUMMARY:Finance & Executive Committee Meeting
DESCRIPTION:
URL:https://mediadistrict.org/calendar/finance-executive-committee-meeting-4/
LOCATION:Zoom Teleconference\, Zoom Teleconference\, Los Angeles\, CA\, 90038\, United States
CATEGORIES:meetings
END:VEVENT
BEGIN:VEVENT
DTSTART;TZID=America/Los_Angeles:20200618T110000
DTEND;TZID=America/Los_Angeles:20200618T110000
DTSTAMP:20260421T101355
CREATED:20200225T205738Z
LAST-MODIFIED:20200225T205738Z
UID:705-1592478000-1592478000@mediadistrict.org
SUMMARY:Arts Committee Meeting
DESCRIPTION:
URL:https://mediadistrict.org/calendar/arts-committee-meeting-4/
LOCATION:Zoom Teleconference\, Zoom Teleconference\, Los Angeles\, CA\, 90038\, United States
CATEGORIES:meetings
END:VEVENT
BEGIN:VEVENT
DTSTART;TZID=America/Los_Angeles:20200625T153000
DTEND;TZID=America/Los_Angeles:20200625T153000
DTSTAMP:20260421T101355
CREATED:20200225T210345Z
LAST-MODIFIED:20200625T173707Z
UID:725-1593099000-1593099000@mediadistrict.org
SUMMARY:Board of Directors Meeting
DESCRIPTION:ZOOM Meeting | https://us02web.zoom.us/j/84064227914 | Meeting ID: 840 6422 7914 \nPresident: J. Luster\nMembers: W. Anabel\, D. Bass\, S. Campbell\, S. Costello\, M. Demson\, A. Gardner\, R. Groeper\, P. Hickey\, R. Howard\, N. Larrew\, T. Lee\, A. Massachi\, J. Massachi\, A. Merhtens\, M. Padilla\, S. Pan\, T. Ragan\, B. Scane\, C. Short\, F. Wehbe\, A. Wilder \n1. Call to Order/Welcome/Introductions \n2. Public Comment for Items Not on the Agenda \n3. Approval of Meeting Minutes – May 28\, 2020 \nThursday\, May 28\, 2020\, Meeting Minutes (Motion) \n4. Executive Committee \na. APN List to LA City Clerk’s Office \n5. Finance Committee \na. P and L – April 2020\nb. Balance Sheet – April 2020 \n6. Arts Committee \na. Updates\nb. Parking Meters \n7. Clean & Green Committee \na. CleanStreet (Motion) \n8. Marketing Committee \na. Website Updates\nb. Social Media \n9. Nominating/Board Development Committee \na. Replacing Simon Costello \n10. PLUM Committee \na. 7-11 Revocation Hearing\nb. Turns into the 99 Cents Store\nc. Tiger Development (Highland/Melrose)\nd. 960 La Brea – Tour of Gym \n11. Safe Committee \na. Pilot Project\nb. ADA Sidewalk Issues \n12. Executive Director report \na. Database\nb. Newsletters \n13. Old Business \n14. New Business \n15. Adjournment \nNext Meeting:\nThursday\, July 23\, 2020\, at 3:30 p.m.\nLocation: Zoom Teleconference\nJoin the ZOOM meeting:\nhttps://us02web.zoom.us/j/83559141499 | Meeting ID: 835 5914 1499
URL:https://mediadistrict.org/calendar/board-of-directors-meeting-6/
LOCATION:Board of Directors Zoom\, CA\, United States
CATEGORIES:meetings
END:VEVENT
END:VCALENDAR