BEGIN:VCALENDAR
VERSION:2.0
PRODID:-//Hollywood Media District - ECPv6.15.20//NONSGML v1.0//EN
CALSCALE:GREGORIAN
METHOD:PUBLISH
X-ORIGINAL-URL:https://mediadistrict.org
X-WR-CALDESC:Events for Hollywood Media District
REFRESH-INTERVAL;VALUE=DURATION:PT1H
X-Robots-Tag:noindex
X-PUBLISHED-TTL:PT1H
BEGIN:VTIMEZONE
TZID:America/Los_Angeles
BEGIN:DAYLIGHT
TZOFFSETFROM:-0800
TZOFFSETTO:-0700
TZNAME:PDT
DTSTART:20250309T100000
END:DAYLIGHT
BEGIN:STANDARD
TZOFFSETFROM:-0700
TZOFFSETTO:-0800
TZNAME:PST
DTSTART:20251102T090000
END:STANDARD
BEGIN:DAYLIGHT
TZOFFSETFROM:-0800
TZOFFSETTO:-0700
TZNAME:PDT
DTSTART:20260308T100000
END:DAYLIGHT
BEGIN:STANDARD
TZOFFSETFROM:-0700
TZOFFSETTO:-0800
TZNAME:PST
DTSTART:20261101T090000
END:STANDARD
BEGIN:DAYLIGHT
TZOFFSETFROM:-0800
TZOFFSETTO:-0700
TZNAME:PDT
DTSTART:20270314T100000
END:DAYLIGHT
BEGIN:STANDARD
TZOFFSETFROM:-0700
TZOFFSETTO:-0800
TZNAME:PST
DTSTART:20271107T090000
END:STANDARD
END:VTIMEZONE
BEGIN:VEVENT
DTSTART;TZID=America/Los_Angeles:20260420T000000
DTEND;TZID=America/Los_Angeles:20260420T000000
DTSTAMP:20260421T174412
CREATED:20260421T063722Z
LAST-MODIFIED:20260421T063737Z
UID:7170-1776643200-1776643200@mediadistrict.org
SUMMARY:Join us to Discover The LOEV Collection at the Michelle Jonas Studio
DESCRIPTION:Michelle Jonas X LOEV\n \nJoin us to Discover The LOEV Collection at the Michelle Jonas Studio\, stay for the music and drinks.\nWe hope to see you there! ❤️\n \n\n📅 Date: April 30th\, 2026\n🕓 Time: 6:00 PM – 8:00 PM\n📍 Venue: Michelle Jonas Gallery\n🗺️ Address: 7007 Romaine Street\, Los Angeles\, CA 90036\n\n \nVisit Their Website
URL:https://mediadistrict.org/calendar/join-us-to-discover-the-loev-collection-at-the-michelle-jonas-studio/
ATTACH;FMTTYPE=image/png:https://mediadistrict.org/wp-content/uploads/2026/04/unnamed.png
END:VEVENT
END:VCALENDAR