BEGIN:VCALENDAR
VERSION:2.0
PRODID:-//Hollywood Media District - ECPv6.15.20//NONSGML v1.0//EN
CALSCALE:GREGORIAN
METHOD:PUBLISH
X-WR-CALNAME:Hollywood Media District
X-ORIGINAL-URL:https://mediadistrict.org
X-WR-CALDESC:Events for Hollywood Media District
REFRESH-INTERVAL;VALUE=DURATION:PT1H
X-Robots-Tag:noindex
X-PUBLISHED-TTL:PT1H
BEGIN:VTIMEZONE
TZID:America/Los_Angeles
BEGIN:DAYLIGHT
TZOFFSETFROM:-0800
TZOFFSETTO:-0700
TZNAME:PDT
DTSTART:20190310T100000
END:DAYLIGHT
BEGIN:STANDARD
TZOFFSETFROM:-0700
TZOFFSETTO:-0800
TZNAME:PST
DTSTART:20191103T090000
END:STANDARD
BEGIN:DAYLIGHT
TZOFFSETFROM:-0800
TZOFFSETTO:-0700
TZNAME:PDT
DTSTART:20200308T100000
END:DAYLIGHT
BEGIN:STANDARD
TZOFFSETFROM:-0700
TZOFFSETTO:-0800
TZNAME:PST
DTSTART:20201101T090000
END:STANDARD
BEGIN:DAYLIGHT
TZOFFSETFROM:-0800
TZOFFSETTO:-0700
TZNAME:PDT
DTSTART:20210314T100000
END:DAYLIGHT
BEGIN:STANDARD
TZOFFSETFROM:-0700
TZOFFSETTO:-0800
TZNAME:PST
DTSTART:20211107T090000
END:STANDARD
END:VTIMEZONE
BEGIN:VEVENT
DTSTART;TZID=America/Los_Angeles:20200903T123000
DTEND;TZID=America/Los_Angeles:20200903T123000
DTSTAMP:20260421T065610
CREATED:20200225T192032Z
LAST-MODIFIED:20200902T174017Z
UID:624-1599136200-1599136200@mediadistrict.org
SUMMARY:SAFE Committee Meeting
DESCRIPTION:ZOOM Teleconference | https://us02web.zoom.us/j/674718375 | Meeting ID: 674 718 375 \nCo-Chairs: F. Wehbe\, T. Ragan\nMembers: W. Anabel\, R. Groeper\, A. Mehrtens \n1. Call to Order/Welcome/Introductions \n2. Public Comment for Items Not on the Agenda \n3. Approval of Meeting Minutes (Motion) \nThursday\, August 06\, 2020\, SAFE Committee Meeting Minutes \n4. Introduction\, Sarah Dusseault\, LAHSA Commission Chair \n5. Introduction\, BID Security Captains \na. Bill Stankiewicz\nb. Cindy Ayana Sepulveda \n6. Old Business \n7. New Business \n8. Adjournment/Next Meeting: \nThursday\, October 1\, 2020 at 12:30 p.m.\nZOOM Teleconference | Meeting ID: 674 718 375\nhttps://us02web.zoom.us/j/674718375\nFind your local number: https://us02web.zoom.us/u/kc8reIGxyA
URL:https://mediadistrict.org/calendar/safe-committee-meeting-7/
LOCATION:Zoom Teleconference SAFE Committee\, CA\, United States
CATEGORIES:meetings
END:VEVENT
BEGIN:VEVENT
DTSTART;TZID=America/Los_Angeles:20200903T140000
DTEND;TZID=America/Los_Angeles:20200903T140000
DTSTAMP:20260421T065610
CREATED:20200225T203414Z
LAST-MODIFIED:20200225T203414Z
UID:647-1599141600-1599141600@mediadistrict.org
SUMMARY:Clean & Green Committee Meeting
DESCRIPTION:
URL:https://mediadistrict.org/calendar/clean-green-committee-meeting-8/
LOCATION:Zoom Teleconference\, Zoom Teleconference\, Los Angeles\, CA\, 90038\, United States
CATEGORIES:meetings
END:VEVENT
BEGIN:VEVENT
DTSTART;TZID=America/Los_Angeles:20200903T150000
DTEND;TZID=America/Los_Angeles:20200903T150000
DTSTAMP:20260421T065610
CREATED:20200225T204114Z
LAST-MODIFIED:20200225T204114Z
UID:667-1599145200-1599145200@mediadistrict.org
SUMMARY:PLUM Committee Meeting
DESCRIPTION:
URL:https://mediadistrict.org/calendar/plum-committee-meeting-8/
LOCATION:Zoom Teleconference\, Zoom Teleconference\, Los Angeles\, CA\, 90038\, United States
CATEGORIES:meetings
END:VEVENT
END:VCALENDAR