BEGIN:VCALENDAR
VERSION:2.0
PRODID:-//Hollywood Media District - ECPv6.15.20//NONSGML v1.0//EN
CALSCALE:GREGORIAN
METHOD:PUBLISH
X-WR-CALNAME:Hollywood Media District
X-ORIGINAL-URL:https://mediadistrict.org
X-WR-CALDESC:Events for Hollywood Media District
REFRESH-INTERVAL;VALUE=DURATION:PT1H
X-Robots-Tag:noindex
X-PUBLISHED-TTL:PT1H
BEGIN:VTIMEZONE
TZID:America/Los_Angeles
BEGIN:DAYLIGHT
TZOFFSETFROM:-0800
TZOFFSETTO:-0700
TZNAME:PDT
DTSTART:20190310T100000
END:DAYLIGHT
BEGIN:STANDARD
TZOFFSETFROM:-0700
TZOFFSETTO:-0800
TZNAME:PST
DTSTART:20191103T090000
END:STANDARD
BEGIN:DAYLIGHT
TZOFFSETFROM:-0800
TZOFFSETTO:-0700
TZNAME:PDT
DTSTART:20200308T100000
END:DAYLIGHT
BEGIN:STANDARD
TZOFFSETFROM:-0700
TZOFFSETTO:-0800
TZNAME:PST
DTSTART:20201101T090000
END:STANDARD
BEGIN:DAYLIGHT
TZOFFSETFROM:-0800
TZOFFSETTO:-0700
TZNAME:PDT
DTSTART:20210314T100000
END:DAYLIGHT
BEGIN:STANDARD
TZOFFSETFROM:-0700
TZOFFSETTO:-0800
TZNAME:PST
DTSTART:20211107T090000
END:STANDARD
END:VTIMEZONE
BEGIN:VEVENT
DTSTART;TZID=America/Los_Angeles:20200813T103000
DTEND;TZID=America/Los_Angeles:20200813T103000
DTSTAMP:20260421T084000
CREATED:20200225T205319Z
LAST-MODIFIED:20200812T175245Z
UID:689-1597314600-1597314600@mediadistrict.org
SUMMARY:Finance & Executive Committee Meeting
DESCRIPTION:Zoom Teleconference | https://us02web.zoom.us/j/84200622755 | Meeting ID: 842 0062 2755 \nChair: J. Luster\nMembers: D. Bass\, A. Gardener\, N. Larrew\, T. Lee\, M. Padilla \nA. Call to Order/Welcome/Introductions \nB. Public Comment for Items Not on the Agenda \nC. Approval of Meeting Minutes (Motion) – meeting of July 23\, 2020. \nD. Committee Reports \n1. Finance Committee \na. P and L – July 2020\nb. Balance Sheet – July 2020\nc. Monthly Expenses \n2. Executive Director \na. Newsletters/EBlast\nb. Database Update\nc. Website Update\nd. Areas of Critical Needs Cleaning Update \n3. Arts Committee \n4. PLUM Committee \na. 7-11 Nuisance Abatement Proceeding\nb. CPU2 Release\nc. Speed Bumps & Crosswalks\nd. Al Fresco Dining – Temporary Permits \n5. Clean & Green Committee \na. CleanStreet\nb. Median Repair\nc. Tree Trimming\nd. Graffiti Abatement \n6. Marketing Committee \na. Website\nb. Social Media \n7. Nominating/Board Development Committee \n8. Safe Committee \na. Security Update\nb. Areas of Critical Needs Update \nE. Old Business \nF. New Business \nG. Adjournment \nH. Next Finance Committee Meeting \nThursday\, September 10\, 2020 at 10:30 a.m.\nZoom Teleconference\nhttps://us02web.zoom.us/j/83870295694\nMeeting ID: 838 7029 5694
URL:https://mediadistrict.org/calendar/finance-executive-committee-meeting-7/
LOCATION:Zoom Teleconference Finance & Executive Committee
CATEGORIES:meetings
END:VEVENT
END:VCALENDAR