BEGIN:VCALENDAR
VERSION:2.0
PRODID:-//Hollywood Media District - ECPv6.15.20//NONSGML v1.0//EN
CALSCALE:GREGORIAN
METHOD:PUBLISH
X-WR-CALNAME:Hollywood Media District
X-ORIGINAL-URL:https://mediadistrict.org
X-WR-CALDESC:Events for Hollywood Media District
REFRESH-INTERVAL;VALUE=DURATION:PT1H
X-Robots-Tag:noindex
X-PUBLISHED-TTL:PT1H
BEGIN:VTIMEZONE
TZID:America/Los_Angeles
BEGIN:DAYLIGHT
TZOFFSETFROM:-0800
TZOFFSETTO:-0700
TZNAME:PDT
DTSTART:20190310T100000
END:DAYLIGHT
BEGIN:STANDARD
TZOFFSETFROM:-0700
TZOFFSETTO:-0800
TZNAME:PST
DTSTART:20191103T090000
END:STANDARD
BEGIN:DAYLIGHT
TZOFFSETFROM:-0800
TZOFFSETTO:-0700
TZNAME:PDT
DTSTART:20200308T100000
END:DAYLIGHT
BEGIN:STANDARD
TZOFFSETFROM:-0700
TZOFFSETTO:-0800
TZNAME:PST
DTSTART:20201101T090000
END:STANDARD
BEGIN:DAYLIGHT
TZOFFSETFROM:-0800
TZOFFSETTO:-0700
TZNAME:PDT
DTSTART:20210314T100000
END:DAYLIGHT
BEGIN:STANDARD
TZOFFSETFROM:-0700
TZOFFSETTO:-0800
TZNAME:PST
DTSTART:20211107T090000
END:STANDARD
END:VTIMEZONE
BEGIN:VEVENT
DTSTART;TZID=America/Los_Angeles:20200806T123000
DTEND;TZID=America/Los_Angeles:20200806T123000
DTSTAMP:20260421T084005
CREATED:20200225T191934Z
LAST-MODIFIED:20200803T224947Z
UID:622-1596717000-1596717000@mediadistrict.org
SUMMARY:SAFE Committee Meeting
DESCRIPTION:ZOOM Teleconference | https://us02web.zoom.us/j/674718375 | Meeting ID: 674 718 375 \nCo-Chairs: F. Wehbe\, T. Ragan\nMembers: W. Anabel\, R. Groeper\, A. Mehrtens \n1. Call to Order/Welcome/Introductions \n2. Public Comment for Items Not on the Agenda \n3. Approval of Meeting Minutes (Motion) \nThursday\, July 07\, 2020\, SAFE Committee Meeting Minutes \n4. Report on security conditions in the District \n5. LA COVID-19 Response Team Services Update \n6. Homeless Solutions Pilot Project \na. BID Security\nb. The Center\nc. Clean Team\nd. Community/Religious\ne. Mental Health Organizations \n7. Addressing issues raised by the City of LA on cleaning up homeless areas \n8. District Hot Spots \na. New Encampments \n9. Updates from local government partners/Covid 19 \n10. Old Business \n11. New Business \n12. Adjournment/Next Meeting: \nThursday\, September 3\, 2020 at 12:30 p.m.\nZOOM Teleconference | Meeting ID: 674 718 375\nhttps://us02web.zoom.us/j/674718375\nFind your local number: https://us02web.zoom.us/u/kc8reIGxyA
URL:https://mediadistrict.org/calendar/safe-committee-meeting-6/
LOCATION:Zoom Teleconference SAFE Committee\, CA\, United States
CATEGORIES:meetings
END:VEVENT
BEGIN:VEVENT
DTSTART;TZID=America/Los_Angeles:20200806T140000
DTEND;TZID=America/Los_Angeles:20200806T140000
DTSTAMP:20260421T084005
CREATED:20200225T203336Z
LAST-MODIFIED:20200803T224714Z
UID:645-1596722400-1596722400@mediadistrict.org
SUMMARY:Clean & Green Committee Meeting
DESCRIPTION:ZOOM Teleconference | https://us02web.zoom.us/j/87452266453 | Meeting ID: 874 5226 6453 \nChair: T. Lee\nMembers: D. Bass\, R. Groeper\, R. Howard\, B. Scane\, C. Short \n1. Call to Order/Welcome/Introductions \n2. Public Comment for Items Not on the Agenda \n3. Approval of Meeting Minutes (Motion) \nThursday\, July 02\, 2020\, Clean and Green Committee Meeting Minutes \n4. CleanStreet Report \n5. District Areas of Critical Needs \n6. Addressing issues raised by City on cleaning areas near homeless \n7. Median Landscaping and Repair \n8. Graffiti Abatement \n9. Old Business \n10. New Business \n11. Adjournment/Next Meeting: \nThursday\, September 03\, 2020 at 2:00 p.m.\nZoom Teleconference\nhttps://us02web.zoom.us/j/87561267354 | Meeting ID: 875 6126 7354
URL:https://mediadistrict.org/calendar/clean-green-committee-meeting-7/
LOCATION:Zoom Teleconference Clean & Green
CATEGORIES:meetings
END:VEVENT
BEGIN:VEVENT
DTSTART;TZID=America/Los_Angeles:20200806T150000
DTEND;TZID=America/Los_Angeles:20200806T150000
DTSTAMP:20260421T084005
CREATED:20200225T204038Z
LAST-MODIFIED:20200803T224450Z
UID:665-1596726000-1596726000@mediadistrict.org
SUMMARY:PLUM Committee Meeting
DESCRIPTION:ZOOM Teleconference | https://us02web.zoom.us/j/82484326267 | Meeting ID: 824 8432 6267 \nCo-Chairs: M. Padilla\, A. Massachi\nMembers: S. Campbell\, R. Howard\, J. Massachi\, S. Pan\, B. Scane\, A. Wilder \n1. Call to Order/Welcome/Introductions \n2. Public Comment for Items Not on the Agenda \n3. Approval of Meeting Minutes (Motion) \nThursday\, July 02\, 2020\, PLUM Committee Meeting Minutes \n4. 7-11 Nuisance Abatement Proceeding \n5. Speed Bumps & Crosswalks \n6. Al Fresco Dining – Temporary Permits \n7. Old Business \na. Advocacy on HCPU letters and issues impacting the District\nb. 960 La Brea\nc. Parking Meters Update\nd. Underground Powerlines\ne. 99 Cents Store \n8. New Business \n9. Adjournment/Next Meeting: \nThursday\, September 3\, 2020 at 3:00 p.m.\nZOOM Teleconference | Meeting ID: 895 3860 5045\nhttps://us02web.zoom.us/j/89538605045
URL:https://mediadistrict.org/calendar/plum-committee-meeting-7/
LOCATION:Zoom Teleconference PLUM
CATEGORIES:meetings
END:VEVENT
END:VCALENDAR