BEGIN:VCALENDAR
VERSION:2.0
PRODID:-//Hollywood Media District - ECPv6.15.20//NONSGML v1.0//EN
CALSCALE:GREGORIAN
METHOD:PUBLISH
X-WR-CALNAME:Hollywood Media District
X-ORIGINAL-URL:https://mediadistrict.org
X-WR-CALDESC:Events for Hollywood Media District
REFRESH-INTERVAL;VALUE=DURATION:PT1H
X-Robots-Tag:noindex
X-PUBLISHED-TTL:PT1H
BEGIN:VTIMEZONE
TZID:America/Los_Angeles
BEGIN:DAYLIGHT
TZOFFSETFROM:-0800
TZOFFSETTO:-0700
TZNAME:PDT
DTSTART:20190310T100000
END:DAYLIGHT
BEGIN:STANDARD
TZOFFSETFROM:-0700
TZOFFSETTO:-0800
TZNAME:PST
DTSTART:20191103T090000
END:STANDARD
BEGIN:DAYLIGHT
TZOFFSETFROM:-0800
TZOFFSETTO:-0700
TZNAME:PDT
DTSTART:20200308T100000
END:DAYLIGHT
BEGIN:STANDARD
TZOFFSETFROM:-0700
TZOFFSETTO:-0800
TZNAME:PST
DTSTART:20201101T090000
END:STANDARD
BEGIN:DAYLIGHT
TZOFFSETFROM:-0800
TZOFFSETTO:-0700
TZNAME:PDT
DTSTART:20210314T100000
END:DAYLIGHT
BEGIN:STANDARD
TZOFFSETFROM:-0700
TZOFFSETTO:-0800
TZNAME:PST
DTSTART:20211107T090000
END:STANDARD
END:VTIMEZONE
BEGIN:VEVENT
DTSTART;TZID=America/Los_Angeles:20200723T153000
DTEND;TZID=America/Los_Angeles:20200723T153000
DTSTAMP:20260421T101308
CREATED:20200225T210413Z
LAST-MODIFIED:20200720T195552Z
UID:727-1595518200-1595518200@mediadistrict.org
SUMMARY:Board of Directors Meeting
DESCRIPTION:ZOOM Meeting | https://us02web.zoom.us/j/83559141499?pwd=WGw1bElsRnBLVit6WmlqVG9aNWF1UT09\nMeeting ID: 835 5914 1499 | Password: 606890 \nPresident: J. Luster\nMembers: W. Anabel\, D. Bass\, S. Campbell\, M. Demson\, A. Gardner\, R. Groeper\, P. Hickey\, R. Howard\, N. Larrew\, T. Lee\, A. Massachi\, J. Massachi\, A. Merhtens\, M. Padilla\, S. Pan\, T. Ragan\, B. Scane\, C. Short\, F. Wehbe\, A. Wilder \n1. Call to Order/Welcome/Introductions \n2. Public Comment for Items Not on the Agenda \n3. Approval of Meeting Minutes – June 25\, 2020 Thursday\, June 25\, 2020\, Meeting Minutes (Motion) \n4. Executive Committee \na. Updates \n5. Finance Committee \na. P and L – June 2020\nb. Balance Sheet – June 2020 \n6. Arts Committee \na. Updates\nb. Parking Meters \n7. Clean & Green Committee \na. CleanStreet Update\nb. Medians \n8. Marketing Committee \na. Website Updates\nb. Social Media \n9. Nominating/Board Development Committee \na. Replacing Simon Costello \n10. PLUM Committee \na. 7-11 Revocation Hearing\nb. 960 La Brea – Tour of Gym \n11. Safe Committee \na. Pilot Project\nb. LAPD Reallocation of Funds \n12. Executive Director Report \na. Pilot Project Update\nb. Database Update\nc. Newsletter/Email Blast-CleanStreet \n13. Old Business \n14. New Business \n15. Adjournment \nNext Meeting: Thursday\, August 27\, 2020\, at 3:30 p.m. Location: Zoom Teleconference\nJoin the ZOOM meeting:\nhttps://us02web.zoom.us/j/84912316003?pwd=Z2dYZGJHd1ZvNVdtOUZMTlJxeDRzQT09\nMeeting ID: 835 5914 1499\nMeeting Password: 999087
URL:https://mediadistrict.org/calendar/board-of-directors-meeting-7/
LOCATION:Board of Directors Zoom\, CA\, United States
CATEGORIES:meetings
END:VEVENT
END:VCALENDAR