BEGIN:VCALENDAR
VERSION:2.0
PRODID:-//Hollywood Media District - ECPv6.15.20//NONSGML v1.0//EN
CALSCALE:GREGORIAN
METHOD:PUBLISH
X-WR-CALNAME:Hollywood Media District
X-ORIGINAL-URL:https://mediadistrict.org
X-WR-CALDESC:Events for Hollywood Media District
REFRESH-INTERVAL;VALUE=DURATION:PT1H
X-Robots-Tag:noindex
X-PUBLISHED-TTL:PT1H
BEGIN:VTIMEZONE
TZID:America/Los_Angeles
BEGIN:DAYLIGHT
TZOFFSETFROM:-0800
TZOFFSETTO:-0700
TZNAME:PDT
DTSTART:20190310T100000
END:DAYLIGHT
BEGIN:STANDARD
TZOFFSETFROM:-0700
TZOFFSETTO:-0800
TZNAME:PST
DTSTART:20191103T090000
END:STANDARD
BEGIN:DAYLIGHT
TZOFFSETFROM:-0800
TZOFFSETTO:-0700
TZNAME:PDT
DTSTART:20200308T100000
END:DAYLIGHT
BEGIN:STANDARD
TZOFFSETFROM:-0700
TZOFFSETTO:-0800
TZNAME:PST
DTSTART:20201101T090000
END:STANDARD
BEGIN:DAYLIGHT
TZOFFSETFROM:-0800
TZOFFSETTO:-0700
TZNAME:PDT
DTSTART:20210314T100000
END:DAYLIGHT
BEGIN:STANDARD
TZOFFSETFROM:-0700
TZOFFSETTO:-0800
TZNAME:PST
DTSTART:20211107T090000
END:STANDARD
END:VTIMEZONE
BEGIN:VEVENT
DTSTART;TZID=America/Los_Angeles:20200702T123000
DTEND;TZID=America/Los_Angeles:20200702T123000
DTSTAMP:20260421T101103
CREATED:20200225T191849Z
LAST-MODIFIED:20200630T182041Z
UID:620-1593693000-1593693000@mediadistrict.org
SUMMARY:SAFE Committee Meeting
DESCRIPTION:ZOOM Teleconference | https://us02web.zoom.us/j/674718375 | Meeting ID: 674 718 375 \nCo-Chairs: F. Wehbe\, T. Ragan\nMembers: W. Anabel\, S. Costello\, R. Groeper\, A. Mehrtens \n1. Call to Order/Welcome/Introductions \n2. Public Comment for Items Not on the Agenda \n3. Approval of Meeting Minutes (Motion) \nThursday\, May 07\, 2020\, SAFE Committee Meeting Minutes \n4. Report on security conditions in the District \n5. Area of Critical Need: Focus on 900 Block of Highland \n6. Homeless Solutions: Pilot Project \na. BID Security\nb. The Center\nc. Clean Team\nd. Community/Religious\ne. Mental Health Organizations \n7. Old Business \n8. New Business \n9. Adjournment/Next Meeting: \nThursday\, August 6\, 2020 at 12:30 p.m.\nZOOM Teleconference | Meeting ID: 674 718 375\nhttps://us02web.zoom.us/j/674718375
URL:https://mediadistrict.org/calendar/safe-committee-meeting-5/
LOCATION:Zoom Teleconference SAFE Committee\, CA\, United States
CATEGORIES:meetings
END:VEVENT
BEGIN:VEVENT
DTSTART;TZID=America/Los_Angeles:20200702T140000
DTEND;TZID=America/Los_Angeles:20200702T140000
DTSTAMP:20260421T101103
CREATED:20200225T203253Z
LAST-MODIFIED:20200630T224457Z
UID:643-1593698400-1593698400@mediadistrict.org
SUMMARY:Clean & Green Committee Meeting
DESCRIPTION:ZOOM Teleconference | https://us02web.zoom.us/j/81551169711 | Meeting ID: 815 5116\n9711 \nChair: T. Lee\nMembers: D. Bass\, R. Groeper\, R. Howard\, B. Scane\, C. Short \n1. Call to Order/Welcome/Introductions \n2. Public Comment for Items Not on the Agenda \n3. Approval of Meeting Minutes (Motion) \nThursday\, June 04\, 2020\, Clean and Green Committee Meeting Minutes \n4. Report on CleanStreet \n5. District Areas of Critical Needs \n6. Median Landscaping and Repair \n7. Graffiti Abatement \n8. Old Business \n9. New Business \n10. Adjournment/Next Meeting: \nThursday\, August 06\, 2020 at 2:00 p.m.\nZoom Teleconference\nhttps://us02web.zoom.us/j/87452266453 |. Meeting ID: 874 5226 6453
URL:https://mediadistrict.org/calendar/clean-green-committee-meeting-6/
LOCATION:Zoom Teleconference Clean & Green
CATEGORIES:meetings
END:VEVENT
BEGIN:VEVENT
DTSTART;TZID=America/Los_Angeles:20200702T150000
DTEND;TZID=America/Los_Angeles:20200702T150000
DTSTAMP:20260421T101103
CREATED:20200225T203948Z
LAST-MODIFIED:20200630T182239Z
UID:663-1593702000-1593702000@mediadistrict.org
SUMMARY:PLUM Committee Meeting
DESCRIPTION:ZOOM Teleconference | https://us02web.zoom.us/j/89349574221 | Meeting ID: 893 4957 4221 \nCo-Chairs: M. Padilla\, A. Massachi\nMembers: S. Campbell\, R. Howard\, J. Massachi\, S. Pan\, B. Scane\, A. Wilder \n1. Call to Order/Welcome/Introductions \n2. Public Comment for Items Not on the Agenda \n3. Approval of Meeting Minutes (Motion) \nThursday\, June 04\, 2020\, PLUM Committee Meeting Minutes \n4. 7-11 Nuisance Abatement Proceeding \na. In coordination with F. Wehbe and T. Ragan from the SAFE Committee \n5. Old Business \na. 960 La Brea\nb. Parking Meters Update\nc. Underground Powerlines\nd. 99 Cents Store \n6. New Business \n7. Adjournment/Next Meeting: \nThursday\, August 6\, 2020 at 3:00 p.m.\nZOOM Teleconference | Meeting ID: 824 8432 6267\nhttps://us02web.zoom.us/j/82484326267
URL:https://mediadistrict.org/calendar/plum-committee-meeting-6/
LOCATION:Zoom Teleconference PLUM
CATEGORIES:meetings
END:VEVENT
END:VCALENDAR