BEGIN:VCALENDAR
VERSION:2.0
PRODID:-//Hollywood Media District - ECPv6.15.20//NONSGML v1.0//EN
CALSCALE:GREGORIAN
METHOD:PUBLISH
X-WR-CALNAME:Hollywood Media District
X-ORIGINAL-URL:https://mediadistrict.org
X-WR-CALDESC:Events for Hollywood Media District
REFRESH-INTERVAL;VALUE=DURATION:PT1H
X-Robots-Tag:noindex
X-PUBLISHED-TTL:PT1H
BEGIN:VTIMEZONE
TZID:America/Los_Angeles
BEGIN:DAYLIGHT
TZOFFSETFROM:-0800
TZOFFSETTO:-0700
TZNAME:PDT
DTSTART:20190310T100000
END:DAYLIGHT
BEGIN:STANDARD
TZOFFSETFROM:-0700
TZOFFSETTO:-0800
TZNAME:PST
DTSTART:20191103T090000
END:STANDARD
BEGIN:DAYLIGHT
TZOFFSETFROM:-0800
TZOFFSETTO:-0700
TZNAME:PDT
DTSTART:20200308T100000
END:DAYLIGHT
BEGIN:STANDARD
TZOFFSETFROM:-0700
TZOFFSETTO:-0800
TZNAME:PST
DTSTART:20201101T090000
END:STANDARD
BEGIN:DAYLIGHT
TZOFFSETFROM:-0800
TZOFFSETTO:-0700
TZNAME:PDT
DTSTART:20210314T100000
END:DAYLIGHT
BEGIN:STANDARD
TZOFFSETFROM:-0700
TZOFFSETTO:-0800
TZNAME:PST
DTSTART:20211107T090000
END:STANDARD
END:VTIMEZONE
BEGIN:VEVENT
DTSTART;TZID=America/Los_Angeles:20200604T123000
DTEND;TZID=America/Los_Angeles:20200604T123000
DTSTAMP:20260421T114625
CREATED:20200225T191538Z
LAST-MODIFIED:20200602T224107Z
UID:618-1591273800-1591273800@mediadistrict.org
SUMMARY:SAFE Committee Meeting
DESCRIPTION:ZOOM Teleconference | https://us02web.zoom.us/j/674718375 | Meeting ID: 674 718 375 \nCo-Chairs: F. Wehbe\, T. Ragan\nMembers: W. Anabel\, S. Costello\, R. Groeper\, A. Mehrtens \n1. Call to Order/Welcome/Introductions \n2. Public Comment for Items Not on the Agenda \n3. Approval of Meeting Minutes (Motion) \nThursday\, May 07\, 2020\, SAFE Committee Meeting Minutes \n4. Report on security conditions in the District \n5. LA COVID-19 Response Team Services Update \n6. Homeless Solutions Pilot Project \na. BID Security\nb. The Center\nc. Clean Team\nd. Community/Religious\ne. Mental Health Organizations \n7. District Hot Spots \na. New Encampments \n8. Updates from local government partners/Covid 19 \n9. Old Business \n10. New Business \n11. Adjournment/Next Meeting: \nThursday\, July 2\, 2020 at 12:30 p.m.\nZOOM Teleconference | Meeting ID: 674 718 375\nhttps://us02web.zoom.us/j/674718375
URL:https://mediadistrict.org/calendar/safe-committee-meeting-4/
LOCATION:Zoom Teleconference SAFE Committee\, CA\, United States
CATEGORIES:meetings
END:VEVENT
BEGIN:VEVENT
DTSTART;TZID=America/Los_Angeles:20200604T140000
DTEND;TZID=America/Los_Angeles:20200604T140000
DTSTAMP:20260421T114625
CREATED:20200225T203219Z
LAST-MODIFIED:20200602T224937Z
UID:641-1591279200-1591279200@mediadistrict.org
SUMMARY:Clean & Green Committee Meeting
DESCRIPTION:ZOOM Teleconference | Meeting ID: 847 0811 4472 | https://us02web.zoom.us/j/84708114472 \nChair: T. Lee\nMembers: D. Bass\, R. Groeper\, R. Howard\, B. Scane\, C. Short \n1. Call to Order/Welcome/Introductions \n2. Public Comment for Items Not on the Agenda \n3. Approval of Meeting Minutes (Motion) \nThursday\, May 07\, 2020\, Clean and Green Committee Meeting Minutes \n4. Report on Alternative Cleaning Services \n5. District Areas of Critical Needs \n6. Median Landscaping and Repair \n7. Old Business \n8. New Business \n9. Adjournment/Next Meeting: \nThursday\, July 02\, 2020 at 2:00 p.m.\nZoom Teleconference\nhttps://us02web.zoom.us/j/81551169711\nMeeting ID: 815 5116 9711
URL:https://mediadistrict.org/calendar/clean-green-committee-meeting-5/
LOCATION:Zoom Teleconference Clean & Green
CATEGORIES:meetings
END:VEVENT
BEGIN:VEVENT
DTSTART;TZID=America/Los_Angeles:20200604T150000
DTEND;TZID=America/Los_Angeles:20200604T150000
DTSTAMP:20260421T114625
CREATED:20200225T203915Z
LAST-MODIFIED:20200602T225354Z
UID:661-1591282800-1591282800@mediadistrict.org
SUMMARY:PLUM Committee Meeting
DESCRIPTION:ZOOM Teleconference | https://us02web.zoom.us/j/86799183485 | Meeting ID: 867 9918 3485 \nCo-Chairs: M. Padilla\, A. Massachi\nMembers: S. Campbell\, R. Howard\, J. Massachi\, S. Pan\, B. Scane\, A. Wilder \n1. Call to Order/Welcome/Introductions \n2. Public Comment for Items Not on the Agenda \n3. Approval of Meeting Minutes (Motion) \nThursday\, February 06\, 2020\, PLUM Committee Meeting Minutes \n4. 7-11 Nuisance Abatement Proceeding \na. In coordination with F. Wehbe and T. Ragan from the SAFE Committee \n5. 700 Highland \n6. Slow Streets LA \n7. Old Business \na. 960 La Brea\nb. Parking Meters Update\nc. Underground Powerlines\nd. 99 Cents Store \n8. New Business \n9. Adjournment/Next Meeting: \nThursday\, July 2\, 2020 at 3:00 p.m.\nZOOM Teleconference | Meeting ID: 893 4957 4221\nhttps://us02web.zoom.us/j/89349574221
URL:https://mediadistrict.org/calendar/plum-committee-meeting-5/
LOCATION:Zoom Teleconference PLUM
CATEGORIES:meetings
END:VEVENT
END:VCALENDAR