BEGIN:VCALENDAR
VERSION:2.0
PRODID:-//Hollywood Media District - ECPv6.15.20//NONSGML v1.0//EN
CALSCALE:GREGORIAN
METHOD:PUBLISH
X-WR-CALNAME:Hollywood Media District
X-ORIGINAL-URL:https://mediadistrict.org
X-WR-CALDESC:Events for Hollywood Media District
REFRESH-INTERVAL;VALUE=DURATION:PT1H
X-Robots-Tag:noindex
X-PUBLISHED-TTL:PT1H
BEGIN:VTIMEZONE
TZID:America/Los_Angeles
BEGIN:DAYLIGHT
TZOFFSETFROM:-0800
TZOFFSETTO:-0700
TZNAME:PDT
DTSTART:20190310T100000
END:DAYLIGHT
BEGIN:STANDARD
TZOFFSETFROM:-0700
TZOFFSETTO:-0800
TZNAME:PST
DTSTART:20191103T090000
END:STANDARD
BEGIN:DAYLIGHT
TZOFFSETFROM:-0800
TZOFFSETTO:-0700
TZNAME:PDT
DTSTART:20200308T100000
END:DAYLIGHT
BEGIN:STANDARD
TZOFFSETFROM:-0700
TZOFFSETTO:-0800
TZNAME:PST
DTSTART:20201101T090000
END:STANDARD
BEGIN:DAYLIGHT
TZOFFSETFROM:-0800
TZOFFSETTO:-0700
TZNAME:PDT
DTSTART:20210314T100000
END:DAYLIGHT
BEGIN:STANDARD
TZOFFSETFROM:-0700
TZOFFSETTO:-0800
TZNAME:PST
DTSTART:20211107T090000
END:STANDARD
END:VTIMEZONE
BEGIN:VEVENT
DTSTART;TZID=America/Los_Angeles:20200521T103000
DTEND;TZID=America/Los_Angeles:20200521T103000
DTSTAMP:20260421T131439
CREATED:20200518T224505Z
LAST-MODIFIED:20200518T224840Z
UID:897-1590057000-1590057000@mediadistrict.org
SUMMARY:Joint Meeting - Finance and Executive Committees
DESCRIPTION:Zoom Teleconference | https://us02web.zoom.us/j/82324402543 | Meeting ID: 823 2440 2543 \nChair: J. Luster\nMembers: D. Bass\, S. Costello\, A. Gardener\, N. Larrew\, T. Lee\, M. Padilla \nA. Call to Order/Welcome/Introductions \nB. Public Comment for Items Not on the Agenda \nC. Approval of Meeting Minutes – meeting of April 9\, 2020 (Motion) \nD. Committee Reports \n1. Finance Committee \na. P and L – April 2020\nb. Balance Sheet – April 2020 \n2. Arts Committee \na. Updates \n3. PLUM Committee \na. 7-11 revocation hearing\nb. The HCPU2 – update\nc. Turns into 99 Cents Only Store on Willoughby\nd. Support letter for Blvd. Development \n4. Clean & Green Committee \na. Letter to CD-13 and CD-4\nb. Map of areas requiring extra work\nc. LABT – update \n5. Marketing Committee \na. Report of results of Database\nb. Website and Social Media updates\nc. Improve ways for Stakeholders to request services\nd. Other Marketing Activities \n6. Nominating/Board Development Committee \n7. Safe Committee \na. Updates on impact in Area.\nb. Response to Areas of Critical Needs\nc. Neighborhood outreach initiatives \nE. Old Business \nF. New Business \nG. Adjournment \nH. Next Joint Finance and Executive Committee Meeting\nThursday\, June 11\, 2020 at 10:30 a.m.\nZoom Teleconference\nhttps://us02web.zoom.us/j/83784808539\nMeeting ID: 837 8480 8539
URL:https://mediadistrict.org/calendar/joint-meeting-finance-and-executive-committees/
LOCATION:Zoom Teleconference SAFE Committee\, CA\, United States
CATEGORIES:meetings
END:VEVENT
BEGIN:VEVENT
DTSTART;TZID=America/Los_Angeles:20200521T110000
DTEND;TZID=America/Los_Angeles:20200521T110000
DTSTAMP:20260421T131439
CREATED:20200225T205706Z
LAST-MODIFIED:20200225T205706Z
UID:703-1590058800-1590058800@mediadistrict.org
SUMMARY:Arts Committee Meeting
DESCRIPTION:
URL:https://mediadistrict.org/calendar/arts-committee-meeting-3/
LOCATION:Zoom Teleconference\, Zoom Teleconference\, Los Angeles\, CA\, 90038\, United States
CATEGORIES:meetings
END:VEVENT
END:VCALENDAR