BEGIN:VCALENDAR
VERSION:2.0
PRODID:-//Hollywood Media District - ECPv6.15.20//NONSGML v1.0//EN
CALSCALE:GREGORIAN
METHOD:PUBLISH
X-WR-CALNAME:Hollywood Media District
X-ORIGINAL-URL:https://mediadistrict.org
X-WR-CALDESC:Events for Hollywood Media District
REFRESH-INTERVAL;VALUE=DURATION:PT1H
X-Robots-Tag:noindex
X-PUBLISHED-TTL:PT1H
BEGIN:VTIMEZONE
TZID:America/Los_Angeles
BEGIN:DAYLIGHT
TZOFFSETFROM:-0800
TZOFFSETTO:-0700
TZNAME:PDT
DTSTART:20190310T100000
END:DAYLIGHT
BEGIN:STANDARD
TZOFFSETFROM:-0700
TZOFFSETTO:-0800
TZNAME:PST
DTSTART:20191103T090000
END:STANDARD
BEGIN:DAYLIGHT
TZOFFSETFROM:-0800
TZOFFSETTO:-0700
TZNAME:PDT
DTSTART:20200308T100000
END:DAYLIGHT
BEGIN:STANDARD
TZOFFSETFROM:-0700
TZOFFSETTO:-0800
TZNAME:PST
DTSTART:20201101T090000
END:STANDARD
BEGIN:DAYLIGHT
TZOFFSETFROM:-0800
TZOFFSETTO:-0700
TZNAME:PDT
DTSTART:20210314T100000
END:DAYLIGHT
BEGIN:STANDARD
TZOFFSETFROM:-0700
TZOFFSETTO:-0800
TZNAME:PST
DTSTART:20211107T090000
END:STANDARD
END:VTIMEZONE
BEGIN:VEVENT
DTSTART;VALUE=DATE:20200208
DTEND;VALUE=DATE:20200329
DTSTAMP:20260421T163223
CREATED:20200205T231307Z
LAST-MODIFIED:20200205T231313Z
UID:556-1581120000-1585439999@mediadistrict.org
SUMMARY:Sofu Teshigahara Art Exhibit
DESCRIPTION:
URL:https://mediadistrict.org/calendar/sofu-teshigahara-art-exhibit/
LOCATION:Nonaka Hill Gallery\, 720 N Highland Ave\, Los Angeles\, CA\, 90038\, United States
CATEGORIES:events
ATTACH;FMTTYPE=image/jpeg:https://mediadistrict.org/wp-content/uploads/2020/02/sofuteshigahara.jpg
END:VEVENT
BEGIN:VEVENT
DTSTART;TZID=America/Los_Angeles:20200326T153000
DTEND;TZID=America/Los_Angeles:20200326T153000
DTSTAMP:20260421T163223
CREATED:20200225T210222Z
LAST-MODIFIED:20200326T152320Z
UID:719-1585236600-1585236600@mediadistrict.org
SUMMARY:Board of Directors Meeting
DESCRIPTION:*******\nTopic: Hollywood Media District\, Board of Directors Zoom Meeting\nTime: Mar 26\, 2020 03:30 PM Pacific Time (US and Canada) \nJOIN BOARD OF DIRECTORS ZOOM MEETING: CLICK ON THIS LINK AND FOLLOW PROMPTS\nhttps://us04web.zoom.us/j/953709921 \nMeeting ID: 953 709 921 \n******* \n\nPresident: J. Luster\nMembers: W. Anabel\, D. Bass\, S. Campbell\, S. Costello\, M. Demson\, A. Gardner\, R. Groeper\, P. Hickey\, R. Howard\, N. Larrew\, T. Lee\, A. Massachi\, J. Massachi\, A. Merhtens\, M. Padilla\, S. Pan\, T. Ragan\, B. Scane\, C. Short\, F. Wehbe\, A. Wilder \n1. Call to Order/Welcome/Introductions \n2. Public Comment for Items Not on the Agenda \n3. Approval of Meeting Minutes Thursday\, February 27\, 2020\, Meeting Minutes (Motion). \n4. Executive Committee \na. 2019 Financial Report by CPA\nb. BID Portal Compliance\nc. Hollywood Media District Sign Repair \n5. Finance Committee \nd. 2020 Financial Statement Preparation by CPA\ne. P and L – February 2020\nf. Balance Sheet – February 2020 \n6. Arts Committee \na. Mural Project\nb. Lights across Santa Monica Blvd\nc. Other projects advocated by Committee and CD-13 \n7. Clean & Green Committee \na. LABT update – cleaning during the Safer at Home Order\nb. Report in use of additional five shifts for median cleaning and repair\nc. Medians – weeding\nd. Medians – tree trimming \n8. Marketing Committee \na. Social Media\nb. Website\nd. Newsletter\ne. Logo\nf. Database \n9. Nominating/Board Development Committee \na. n/at \n10. PLUM Committee \na. Letter regarding 7-11 Revocation\nb. The HCPU2 – update\nc. Left turn into 99¢ store – Willoughby/La Brea\nd. New Projects\ne. Support letter for Blvd. Development\nf. Stanford University Event \n11. Safe Committee \na. Programs to assist Homeless “One Corner at a Time”\nb. Issues during the Safer at Home order\nc. Homelessness Resource List for Businesses \n12. Old Business \n13. New Business \n14. Adjournment \nNext Meeting Thursday\, April 30\, 2020\, at 3:30 p.m.
URL:https://mediadistrict.org/calendar/board-of-directors-meeting-3/
LOCATION:Board of Directors Zoom\, CA\, United States
CATEGORIES:meetings
END:VEVENT
END:VCALENDAR