BEGIN:VCALENDAR
VERSION:2.0
PRODID:-//Hollywood Media District - ECPv6.15.20//NONSGML v1.0//EN
CALSCALE:GREGORIAN
METHOD:PUBLISH
X-WR-CALNAME:Hollywood Media District
X-ORIGINAL-URL:https://mediadistrict.org
X-WR-CALDESC:Events for Hollywood Media District
REFRESH-INTERVAL;VALUE=DURATION:PT1H
X-Robots-Tag:noindex
X-PUBLISHED-TTL:PT1H
BEGIN:VTIMEZONE
TZID:America/Los_Angeles
BEGIN:DAYLIGHT
TZOFFSETFROM:-0800
TZOFFSETTO:-0700
TZNAME:PDT
DTSTART:20180311T100000
END:DAYLIGHT
BEGIN:STANDARD
TZOFFSETFROM:-0700
TZOFFSETTO:-0800
TZNAME:PST
DTSTART:20181104T090000
END:STANDARD
BEGIN:DAYLIGHT
TZOFFSETFROM:-0800
TZOFFSETTO:-0700
TZNAME:PDT
DTSTART:20190310T100000
END:DAYLIGHT
BEGIN:STANDARD
TZOFFSETFROM:-0700
TZOFFSETTO:-0800
TZNAME:PST
DTSTART:20191103T090000
END:STANDARD
BEGIN:DAYLIGHT
TZOFFSETFROM:-0800
TZOFFSETTO:-0700
TZNAME:PDT
DTSTART:20200308T100000
END:DAYLIGHT
BEGIN:STANDARD
TZOFFSETFROM:-0700
TZOFFSETTO:-0800
TZNAME:PST
DTSTART:20201101T090000
END:STANDARD
END:VTIMEZONE
BEGIN:VEVENT
DTSTART;TZID=America/Los_Angeles:20191118T103000
DTEND;TZID=America/Los_Angeles:20191118T103000
DTSTAMP:20260421T223224
CREATED:20191116T004515Z
LAST-MODIFIED:20191116T004740Z
UID:412-1574073000-1574073000@mediadistrict.org
SUMMARY:SAFE Committee
DESCRIPTION:SPECIAL MEETING AGENDA \nANY ITEM ON THIS AGENDA IS SUBJECT TO ACTION\, INCLUDING A MOTION AND VOTE \nChair: Ferris Wehbe \nMembers: Wil Anabel\, Simon Costello\, David Bass and Ron Groeper \nA. Call to Order/Welcome/Introductions \nB. Public Comment for items not on the Agenda \nC. Approval of Meeting Minutes (Motion) \nTuesday\, October 29\, 2019 SPECIAL Meeting \nD. Security Updates \n1. Deployment update\n2. Intake form– CRM\n3. Homeless Update \nE. Guest Speakers: LAPD Hollywood \nF. Join HCPAB \nG. Old Business \nH. New Business \nI. Adjournment\nNext Safe Committee Meeting – to be determined
URL:https://mediadistrict.org/calendar/safe-committee/
LOCATION:Zoom Teleconference\, Zoom Teleconference\, Los Angeles\, CA\, 90038\, United States
END:VEVENT
END:VCALENDAR